BEGIN:VCALENDAR
VERSION:2.0
PRODID:-//Faith Foundation Outreach - ECPv6.15.20//NONSGML v1.0//EN
CALSCALE:GREGORIAN
METHOD:PUBLISH
X-WR-CALNAME:Faith Foundation Outreach
X-ORIGINAL-URL:https://faithfoundationoutreach.com
X-WR-CALDESC:Events for Faith Foundation Outreach
REFRESH-INTERVAL;VALUE=DURATION:PT1H
X-Robots-Tag:noindex
X-PUBLISHED-TTL:PT1H
BEGIN:VTIMEZONE
TZID:UTC
BEGIN:STANDARD
TZOFFSETFROM:+0000
TZOFFSETTO:+0000
TZNAME:UTC
DTSTART:20240101T000000
END:STANDARD
END:VTIMEZONE
BEGIN:VEVENT
DTSTART;TZID=UTC:20251220T110000
DTEND;TZID=UTC:20251220T120000
DTSTAMP:20260420T210848
CREATED:20251117T024754Z
LAST-MODIFIED:20251117T031234Z
UID:52738-1766228400-1766232000@faithfoundationoutreach.com
SUMMARY:2025 CHRISTMAS COMMUNITY EVENT - Free Groceries & Free Toys Giveaway: Ages 1-8
DESCRIPTION:
URL:https://faithfoundationoutreach.com/event/2025-christmas-community-event-free-groceries-free-toys-giveaway-ages-1-8/
LOCATION:600 Gwinnett Dr\, Lawrenceville GA 30045\, 600 Gwinnett Dr. (LA FITNESS Parking Lot)\, Lawrenceville\, GA\, 30045\, United States
CATEGORIES:Community Event
ATTACH;FMTTYPE=image/jpeg:https://faithfoundationoutreach.com/wp-content/uploads/2025/11/2025-CHRISTMAS-COMMUNITY-EVENT-FLYER.jpg
ORGANIZER;CN="Faith Foundation Outreach":MAILTO:info@faithfoundationoutreach.com
END:VEVENT
BEGIN:VEVENT
DTSTART;TZID=UTC:20251122T110000
DTEND;TZID=UTC:20251122T120000
DTSTAMP:20260420T210848
CREATED:20251117T024350Z
LAST-MODIFIED:20251117T031139Z
UID:52730-1763809200-1763812800@faithfoundationoutreach.com
SUMMARY:2025 THANKSGIVING COMMUNITY EVENT - Free Turkey Giveaway & Free Groceries Distribution
DESCRIPTION:
URL:https://faithfoundationoutreach.com/event/2025-thanksgiving-community-event-free-turkey-giveaway-free-groceries-distribution/
LOCATION:600 Gwinnett Dr\, Lawrenceville GA 30045\, 600 Gwinnett Dr. (LA FITNESS Parking Lot)\, Lawrenceville\, GA\, 30045\, United States
CATEGORIES:Community Event
ATTACH;FMTTYPE=image/jpeg:https://faithfoundationoutreach.com/wp-content/uploads/2025/11/2025-THANKSGIVING-GIVEAWAY-EVENT-FLYER.jpg
ORGANIZER;CN="Faith Foundation Outreach":MAILTO:info@faithfoundationoutreach.com
END:VEVENT
BEGIN:VEVENT
DTSTART;TZID=UTC:20251101T100000
DTEND;TZID=UTC:20251231T130000
DTSTAMP:20260420T210848
CREATED:20251008T224615Z
LAST-MODIFIED:20251009T025459Z
UID:52719-1761991200-1767186000@faithfoundationoutreach.com
SUMMARY:Community Event #2
DESCRIPTION: 
URL:https://faithfoundationoutreach.com/event/community-event-2/
LOCATION:Community Event\, 600 Gwinnett Dr\, (LA FITNESS Parking Lot)\, Lawrenceville\, GA\, 30045\, United States
CATEGORIES:Community Event
ATTACH;FMTTYPE=image/jpeg:https://faithfoundationoutreach.com/wp-content/uploads/2024/06/Recurrent-Monthly-Clinic-Flyer-03.jpg
ORGANIZER;CN="Faith Foundation Outreach":MAILTO:info@faithfoundationoutreach.com
END:VEVENT
BEGIN:VEVENT
DTSTART;TZID=UTC:20251018T100000
DTEND;TZID=UTC:20251104T130000
DTSTAMP:20260420T210848
CREATED:20240614T210615Z
LAST-MODIFIED:20251009T120659Z
UID:39580-1760781600-1762261200@faithfoundationoutreach.com
SUMMARY:Free Community Health & Wellness Event
DESCRIPTION:  \nFree Community Health & Wellness Event
URL:https://faithfoundationoutreach.com/event/free-community-health-wellness-event/
LOCATION:Community Event\, 600 Gwinnett Dr\, (LA FITNESS Parking Lot)\, Lawrenceville\, GA\, 30045\, United States
CATEGORIES:Community Event
ATTACH;FMTTYPE=image/jpeg:https://faithfoundationoutreach.com/wp-content/uploads/2024/06/10-18-2025-Health-Event-Flyer-02.jpg
ORGANIZER;CN="Faith Foundation Outreach":MAILTO:info@faithfoundationoutreach.com
END:VEVENT
END:VCALENDAR